BEGIN:VCALENDAR
PRODID:-//eluceo/ical//2.0/EN
VERSION:2.0
CALSCALE:GREGORIAN
BEGIN:VEVENT
UID:caaff4e3defcc28bf0171c5363041f2c
DTSTAMP:20260420T085620Z
SUMMARY:Vermicomposting - helping your garden grow!
DESCRIPTION:Description:\nCelebrate Earth Day week by discovering how worms
  recycle food scraps into healthy soil amendments - vermicomposting.  Cus
 tomers will create a small worm habitat to take home with free\, live worm
 s to get their own vermicomposting started.  Open to all ages.  Space fo
 r 25 people.  Registration opens Wed April 8\, 2026 at 9am. \nPlease giv
 e 24 hour cancellation notice if not able to attend.\n\n\n
URL:https://mcldaz.events.mylibrary.digital/event?id=326967
DTSTART;TZID=America/Phoenix:20260420T173000
DTEND;TZID=America/Phoenix:20260420T183000
LOCATION:North Valley Regional Library\, 40410\, N. Gavilan Peak Pkwy\, Ant
 hem AZ 85083
END:VEVENT
BEGIN:VTIMEZONE
TZID:America/Phoenix
BEGIN:STANDARD
DTSTART:20200501T000000
TZNAME:MST
TZOFFSETTO:-0700
TZOFFSETFROM:-0700
END:STANDARD
END:VTIMEZONE
END:VCALENDAR
