BEGIN:VCALENDAR
PRODID:-//eluceo/ical//2.0/EN
VERSION:2.0
CALSCALE:GREGORIAN
BEGIN:VEVENT
UID:31b220a500451294683013c99d2df8d0
DTSTAMP:20260420T103856Z
SUMMARY:Upcycled Cassette Tape (Adult Craft)
DESCRIPTION:Description:\nCelebrate Earth Day by upcycling an old cassette 
 tape. Materials will be provided.\n\nRegistration is required for all part
 icipants and must be 18 or older.\n\nRequirements:\nDo you require an acco
 mmodation to participate in this event? Call 602-652-3000\, TTY 711\, or s
 ubmit your request in person at least 14 business days before the event.
URL:https://mcldaz.events.mylibrary.digital/event?id=327339
DTSTART;TZID=America/Phoenix:20260421T180000
DTEND;TZID=America/Phoenix:20260421T190000
LOCATION:Southeast Regional Library\, 775 N Greenfield Rd\, Gilbert 85234 A
 Z
END:VEVENT
BEGIN:VTIMEZONE
TZID:America/Phoenix
BEGIN:STANDARD
DTSTART:20200501T000000
TZNAME:MST
TZOFFSETTO:-0700
TZOFFSETFROM:-0700
END:STANDARD
END:VTIMEZONE
END:VCALENDAR
