BEGIN:VCALENDAR
PRODID:-//eluceo/ical//2.0/EN
VERSION:2.0
CALSCALE:GREGORIAN
BEGIN:VEVENT
UID:663c69332e15ebe74b0b3f5b3e840846
DTSTAMP:20260419T163434Z
SUMMARY:Baby Time
DESCRIPTION:Description:\nJoin us for Baby Time! This interactive program i
 ntroduces board books\, music and fun playtime to your babies. Baby Time i
 s a great way to introduce young children to the library\, to begin a life
 time of regular library visits and to help children develop into lifelong 
 library users. Baby Time is designed for children ages birth to two years 
 of age*. No registartion required.\n\nRequirements:\nBaby Time is designe
 d for children ages birth to two years of age\, but we welcome kids until 
 3 years old.
URL:https://mcldaz.events.mylibrary.digital/event?id=328109
DTSTART;TZID=America/Phoenix:20260423T101500
DTEND;TZID=America/Phoenix:20260423T110000
LOCATION:White Tank Library\, 20304 W White Tank Mountain Rd\, Waddell 8535
 5 AZ
END:VEVENT
BEGIN:VTIMEZONE
TZID:America/Phoenix
BEGIN:STANDARD
DTSTART:20200501T000000
TZNAME:MST
TZOFFSETTO:-0700
TZOFFSETFROM:-0700
END:STANDARD
END:VTIMEZONE
END:VCALENDAR
