BEGIN:VCALENDAR
PRODID:-//eluceo/ical//2.0/EN
VERSION:2.0
CALSCALE:GREGORIAN
BEGIN:VEVENT
UID:e6d03581975135c1ef03aa46ff153b04
DTSTAMP:20260421T092103Z
SUMMARY:Paleontology Discovery with the Dino Crew
DESCRIPTION:Description:\nDino Crew Entertainment will introduce young expl
 orers to the exciting world of dinosaurs and fossils. Children will learn 
 about paleontology as they dig\, explore\, and examine fossils through han
 ds-on activities that spark imagination and discovery. Program is designed
  for children ages 4-12.\n\nRequirements:\nDo you require an accommodation
  to participate in this event? Call 602-652-3000\, TTY 711\,\nor submit yo
 ur request in person at least 14 business days before the event.
URL:https://mcldaz.events.mylibrary.digital/event?id=328266
DTSTART;TZID=America/Phoenix:20260606T150000
DTEND;TZID=America/Phoenix:20260606T160000
LOCATION:White Tank Library\, 20304 W White Tank Mountain Rd\, Waddell 8535
 5 AZ
END:VEVENT
BEGIN:VTIMEZONE
TZID:America/Phoenix
BEGIN:STANDARD
DTSTART:20200501T000000
TZNAME:MST
TZOFFSETTO:-0700
TZOFFSETFROM:-0700
END:STANDARD
END:VTIMEZONE
END:VCALENDAR
