BEGIN:VCALENDAR
PRODID:-//eluceo/ical//2.0/EN
VERSION:2.0
CALSCALE:GREGORIAN
BEGIN:VEVENT
UID:4cd54485b9fe0064786dfcdd6cf1975a
DTSTAMP:20260419T144805Z
SUMMARY:Baby Playdate for Pre-Walkers
DESCRIPTION:Description:\nWe welcome babies under 14 months\, or pre-walker
 s\, to this program.Babies and their caregivers are invited to a baby play
 date! Join us for playing\, listening to music\, and socializing. Unlike a
  storytime\, this program is designed for babies to engage in free play.Re
 gistration is required. Please only register the infant(s) attending the e
 vent. To provide quality one-on-one bonding time and a safe environment fo
 r babies\, we politely ask that older siblings not attend this event. Fami
 ly Storytimes and events listed as Family-All Ages are open to all ages.\n
 \nRequirements:\nDo you require an accommodation to participate in this ev
 ent? Call 602-652-3000\, TTY 711\,\nor submit your request in person at le
 ast 14 business days before the event.
URL:https://mcldaz.events.mylibrary.digital/event?id=328567
DTSTART;TZID=America/Phoenix:20260423T111500
DTEND;TZID=America/Phoenix:20260423T114500
LOCATION:Southeast Regional Library\, 775 N Greenfield Rd\, Gilbert 85234 A
 Z
END:VEVENT
BEGIN:VTIMEZONE
TZID:America/Phoenix
BEGIN:STANDARD
DTSTART:20200501T000000
TZNAME:MST
TZOFFSETTO:-0700
TZOFFSETFROM:-0700
END:STANDARD
END:VTIMEZONE
END:VCALENDAR
