BEGIN:VCALENDAR
PRODID:-//eluceo/ical//2.0/EN
VERSION:2.0
CALSCALE:GREGORIAN
BEGIN:VEVENT
UID:81d15a3d3708b3da60f77ad2cc185a74
DTSTAMP:20260420T085620Z
SUMMARY:Introverts Wanted!
DESCRIPTION:Description:\nThere are two times available in order to accommo
 date everyone.  PLEASE REGISTER FOR JUST ONE SESSION TODAY.  Join a welc
 oming discussion group for introverts\, facilitated by Fountain Hills resi
 dent Darla Roberts.  Roberts will share her own experiences as an introve
 rt and how it has affected all aspects of her life.  We’ll explore data
  on introversion\, cultural perspectives\, and shared experiences in a sup
 portive space.  \n\nRequirements:\nDo you require an accommodation to par
 ticipate in this event?  Call 602-652-3000\, TTY 711\, or submit your requ
 est in person at least 14 business days before the event.
URL:https://mcldaz.events.mylibrary.digital/event?id=329169
DTSTART;TZID=America/Phoenix:20260422T110000
DTEND;TZID=America/Phoenix:20260422T120000
LOCATION:Fountain Hills Library\, 12901 N La Montana Dr\, Fountain Hills 85
 268 AZ
END:VEVENT
BEGIN:VTIMEZONE
TZID:America/Phoenix
BEGIN:STANDARD
DTSTART:20200501T000000
TZNAME:MST
TZOFFSETTO:-0700
TZOFFSETFROM:-0700
END:STANDARD
END:VTIMEZONE
END:VCALENDAR
