BEGIN:VCALENDAR
PRODID:-//eluceo/ical//2.0/EN
VERSION:2.0
CALSCALE:GREGORIAN
BEGIN:VEVENT
UID:bc71ab385ea6ae1b4f762c582a398c3f
DTSTAMP:20260419T155540Z
SUMMARY:DnD Club
DESCRIPTION:Description:\nAre you a fan of Dungeons & Dragons? Join us at t
 he library on the second and last Wednesdays of the month to play DnD and 
 other tabletop RPGs! New and experienced players are welcome. For ages 12-
 18.
URL:https://mcldaz.events.mylibrary.digital/event?id=329336
DTSTART;TZID=America/Phoenix:20260408T160000
DTEND;TZID=America/Phoenix:20260408T170000
LOCATION:Fountain Hills Library\, 12901 N La Montana Dr\, Fountain Hills 85
 268 AZ
END:VEVENT
BEGIN:VTIMEZONE
TZID:America/Phoenix
BEGIN:STANDARD
DTSTART:20200501T000000
TZNAME:MST
TZOFFSETTO:-0700
TZOFFSETFROM:-0700
END:STANDARD
END:VTIMEZONE
END:VCALENDAR
