BEGIN:VCALENDAR
PRODID:-//eluceo/ical//2.0/EN
VERSION:2.0
CALSCALE:GREGORIAN
BEGIN:VEVENT
UID:e341c22f6f56bdb74801b7c4d08e3c7c
DTSTAMP:20260424T165746Z
SUMMARY:Movie and Craft for Adults: Star Wars IV (1977)
DESCRIPTION:Description:\nA young man joins a rebel alliance working to ove
 rthrow an evil empire that's taking over the galaxy. Make a craft inspired
  by the movie and may the force be with you. Materials will be provided. R
 egistration is required for all participants and must be 18 or older.Run T
 ime: 2HR\n\nRequirements:\nDo you require an accommodation to participate 
 in this event? Call 602-652-3000\, TTY 711\, or submit your request in per
 son at least 14 business days before the event.
URL:https://mcldaz.events.mylibrary.digital/event?id=329629
DTSTART;TZID=America/Phoenix:20260505T180000
DTEND;TZID=America/Phoenix:20260505T200000
LOCATION:Southeast Regional Library\, 775 N Greenfield Rd\, Gilbert 85234 A
 Z
END:VEVENT
BEGIN:VTIMEZONE
TZID:America/Phoenix
BEGIN:STANDARD
DTSTART:20200501T000000
TZNAME:MST
TZOFFSETTO:-0700
TZOFFSETFROM:-0700
END:STANDARD
END:VTIMEZONE
END:VCALENDAR
