BEGIN:VCALENDAR
PRODID:-//eluceo/ical//2.0/EN
VERSION:2.0
CALSCALE:GREGORIAN
BEGIN:VEVENT
UID:0afab48e4577e4f7de3059f0883cbaba
DTSTAMP:20260420T085557Z
SUMMARY:Book Chat
DESCRIPTION:Description:\nCome hang out with us at Book Chat!\nEach month h
 as a theme—just pick a book that fits and bring your thoughts to the dis
 cussion. We’ll chat about what we’re reading\, swap insights\, and sha
 re book recommendations with other book lovers.\nMay's theme: A book with 
 a flower in the title
URL:https://mcldaz.events.mylibrary.digital/event?id=329959
DTSTART;TZID=America/Phoenix:20260515T110000
DTEND;TZID=America/Phoenix:20260515T120000
LOCATION:Litchfield Park Library\, 101 W. Wigwam Blvd\, Litchfield Park 853
 40 AZ
END:VEVENT
BEGIN:VTIMEZONE
TZID:America/Phoenix
BEGIN:STANDARD
DTSTART:20200501T000000
TZNAME:MST
TZOFFSETTO:-0700
TZOFFSETFROM:-0700
END:STANDARD
END:VTIMEZONE
END:VCALENDAR
