BEGIN:VCALENDAR
PRODID:-//eluceo/ical//2.0/EN
VERSION:2.0
CALSCALE:GREGORIAN
BEGIN:VEVENT
UID:eb6435945fbe8dfb31fc9bd58a986854
DTSTAMP:20260420T102416Z
SUMMARY:Strange History
DESCRIPTION:Description:\nJoin history buff and Fountain Hills citizen Darl
 a Roberts for a look at some fascinating parts of history we rarely hear a
 bout.  In this fun presentation\, you'll hear about the strange history o
 f some of our US Presidents\, their odd habits\, ghosts in the White House
  and the famous people who've reported seeing them.  You'll also get the 
 opportunity to learn things about other famous events and people that rare
 ly get covered in the history books.  \n\nRequirements:\nDo you require a
 n accommodation to participate in this event?  Call 602-652-3000\, TTY 711
 \, or submit your request in person at least 14 business days before the e
 vent.
URL:https://mcldaz.events.mylibrary.digital/event?id=330096
DTSTART;TZID=America/Phoenix:20260428T110000
DTEND;TZID=America/Phoenix:20260428T120000
LOCATION:Fountain Hills Library\, 12901 N La Montana Dr\, Fountain Hills 85
 268 AZ
END:VEVENT
BEGIN:VTIMEZONE
TZID:America/Phoenix
BEGIN:STANDARD
DTSTART:20200501T000000
TZNAME:MST
TZOFFSETTO:-0700
TZOFFSETFROM:-0700
END:STANDARD
END:VTIMEZONE
END:VCALENDAR
