BEGIN:VCALENDAR
PRODID:-//eluceo/ical//2.0/EN
VERSION:2.0
CALSCALE:GREGORIAN
BEGIN:VEVENT
UID:c10f99c2f0fcb69e08ba466f1653492b
DTSTAMP:20260424T170427Z
SUMMARY:Spice Trip Around the World (NOT an IN Person Program)
DESCRIPTION:Description:\nTake a trip around the world with a different spi
 ce each month. Register for this program and receive an email to come to t
 he library to pick up your spice packet and recipe\, beginning the first T
 uesday of the month. You will have all month to pick up your spice. After 
 the 20th \, spices will also be handed out to those on the Wait List. Quan
 tities are limited. You MUST Register each month. (This is NOT an in perso
 n program).
URL:https://mcldaz.events.mylibrary.digital/event?id=330409
DTSTART;TZID=America/Phoenix:20260505T090000
DTEND;TZID=America/Phoenix:20260505T100000
LOCATION:Ed Robson Library\, 9330 E Riggs Rd\, Sun Lakes 85248 AZ
END:VEVENT
BEGIN:VTIMEZONE
TZID:America/Phoenix
BEGIN:STANDARD
DTSTART:20200501T000000
TZNAME:MST
TZOFFSETTO:-0700
TZOFFSETFROM:-0700
END:STANDARD
END:VTIMEZONE
END:VCALENDAR
