BEGIN:VCALENDAR
PRODID:-//eluceo/ical//2.0/EN
VERSION:2.0
CALSCALE:GREGORIAN
BEGIN:VEVENT
UID:9a0896842483be227f750011ea3968a5
DTSTAMP:20260424T154614Z
SUMMARY:Genealogy Workshop
DESCRIPTION:Description:\nJoin Duane Roen every month to learn the basics o
 f genealogy research. This is a 15 minute\, one-on-one consultation with D
 uane. Sign up to reserve your spot\, as space is limited to four participa
 nts.
URL:https://mcldaz.events.mylibrary.digital/event?id=330820
DTSTART;TZID=America/Phoenix:20260520T113000
DTEND;TZID=America/Phoenix:20260520T123000
LOCATION:Ed Robson Library\, 9330 E Riggs Rd\, Sun Lakes 85248 AZ
END:VEVENT
BEGIN:VTIMEZONE
TZID:America/Phoenix
BEGIN:STANDARD
DTSTART:20200501T000000
TZNAME:MST
TZOFFSETTO:-0700
TZOFFSETFROM:-0700
END:STANDARD
END:VTIMEZONE
END:VCALENDAR
