BEGIN:VCALENDAR
PRODID:-//eluceo/ical//2.0/EN
VERSION:2.0
CALSCALE:GREGORIAN
BEGIN:VEVENT
UID:5bcf03c57de568c6eda4aa4723846b3a
DTSTAMP:20260420T102211Z
SUMMARY:Craft & Chat
DESCRIPTION:Description:\nCrafters unite! Come by for an hour of crafting a
 nd conversation. Bring any project you are working on and create with othe
 rs as they work on their projects. This is a Drop-in program\, NO registra
 tion is required.
URL:https://mcldaz.events.mylibrary.digital/event?id=330837
DTSTART;TZID=America/Phoenix:20260817T100000
DTEND;TZID=America/Phoenix:20260817T110000
LOCATION:Ed Robson Library\, 9330 E Riggs Rd\, Sun Lakes 85248 AZ
END:VEVENT
BEGIN:VTIMEZONE
TZID:America/Phoenix
BEGIN:STANDARD
DTSTART:20200501T000000
TZNAME:MST
TZOFFSETTO:-0700
TZOFFSETFROM:-0700
END:STANDARD
END:VTIMEZONE
END:VCALENDAR
