BEGIN:VCALENDAR
PRODID:-//eluceo/ical//2.0/EN
VERSION:2.0
CALSCALE:GREGORIAN
BEGIN:VEVENT
UID:73d0652921782ad9f4f7c6afcbf960d3
DTSTAMP:20260424T173246Z
SUMMARY:Unsolved Case Files
DESCRIPTION:Description:\nStep into the shoes of a detective! Examine evide
 nce\, decode clues\, and unravel a mysterious fictional cold case alongsid
 e fellow amateur slueths. Drop in until full. 
URL:https://mcldaz.events.mylibrary.digital/event?id=332609
DTSTART;TZID=America/Phoenix:20260502T130000
DTEND;TZID=America/Phoenix:20260502T160000
LOCATION:Litchfield Park Library\, 101 W. Wigwam Blvd\, Litchfield Park 853
 40 AZ
END:VEVENT
BEGIN:VTIMEZONE
TZID:America/Phoenix
BEGIN:STANDARD
DTSTART:20200501T000000
TZNAME:MST
TZOFFSETTO:-0700
TZOFFSETFROM:-0700
END:STANDARD
END:VTIMEZONE
END:VCALENDAR
