BEGIN:VCALENDAR
PRODID:-//eluceo/ical//2.0/EN
VERSION:2.0
CALSCALE:GREGORIAN
BEGIN:VEVENT
UID:619f3cf43b0e035c013017d12919a212
DTSTAMP:20260424T141343Z
SUMMARY:K-Pop Dance Workshop (Ages 9-18)
DESCRIPTION:Description:\nJoin the Arizona K-Pop Dance Crew for a high-ener
 gy K-Pop dance workshop! Learn iconic choreography step-by-step and dance 
 like your favorite groups. Whether you're a longtime fan or just getting i
 nto K-Pop\, this is your chance to try something new\, pick up real moves\
 , and have fun. No experience needed--just come ready to dance!\nFor ages 
 9-18.\n\nRequirements:\nDo you require an accommodation to participate in 
 this event? Call 602-652-3000\, TTY 711\, or submit your request in person
  at least 14 business days before the event.
URL:https://mcldaz.events.mylibrary.digital/event?id=333516
DTSTART;TZID=America/Phoenix:20260611T170000
DTEND;TZID=America/Phoenix:20260611T180000
LOCATION:North Valley Regional Library\, 40410\, N. Gavilan Peak Pkwy\, Ant
 hem AZ 85083
END:VEVENT
BEGIN:VTIMEZONE
TZID:America/Phoenix
BEGIN:STANDARD
DTSTART:20200501T000000
TZNAME:MST
TZOFFSETTO:-0700
TZOFFSETFROM:-0700
END:STANDARD
END:VTIMEZONE
END:VCALENDAR
