BEGIN:VCALENDAR
PRODID:-//eluceo/ical//2.0/EN
VERSION:2.0
CALSCALE:GREGORIAN
BEGIN:VEVENT
UID:1a6df6210a2b39beb7fbcffa4f6ea9e4
DTSTAMP:20260420T103922Z
SUMMARY:Fiction and More Book Club
DESCRIPTION:Description:\nJoin us to read and discuss great fiction and non
 fiction! This month’s selection is Nickel and Dimed by Barbara Ehrenreic
 h. Anyone is welcome\, even if you haven’t read the book and would just 
 like to listen in on the discussion. Registration needed. Adults.
URL:https://mcldaz.events.mylibrary.digital/event?id=334081
DTSTART;TZID=America/Phoenix:20260423T133000
DTEND;TZID=America/Phoenix:20260423T143000
LOCATION:Sun City Library\, 16828 N 99th Ave\, Sun City 85351 AZ
END:VEVENT
BEGIN:VTIMEZONE
TZID:America/Phoenix
BEGIN:STANDARD
DTSTART:20200501T000000
TZNAME:MST
TZOFFSETTO:-0700
TZOFFSETFROM:-0700
END:STANDARD
END:VTIMEZONE
END:VCALENDAR
