BEGIN:VCALENDAR
PRODID:-//eluceo/ical//2.0/EN
VERSION:2.0
CALSCALE:GREGORIAN
BEGIN:VEVENT
UID:3c736dac8bbdd733a8e6967b00b57c55
DTSTAMP:20260420T102037Z
SUMMARY:Sew Fun: Bunny in a Carrot
DESCRIPTION:Description:\nMake an adorable felt bunny and a carrot to hold 
 him. We'll be using felt\, a running stitch and some hot glue for our proj
 ect. Hop on over to the library for this cute craft. Registration required
 \n\nRequirements:\nDo you require an accommodation to participate in this 
 event? Call 602-652-3000\, TTy 771\, or submit your request in person at l
 east 14 business days before the event.
URL:https://mcldaz.events.mylibrary.digital/event?id=334289
DTSTART;TZID=America/Phoenix:20260422T160000
DTEND;TZID=America/Phoenix:20260422T171500
LOCATION:North Valley Regional Library\, 40410\, N. Gavilan Peak Pkwy\, Ant
 hem AZ 85083
END:VEVENT
BEGIN:VTIMEZONE
TZID:America/Phoenix
BEGIN:STANDARD
DTSTART:20200501T000000
TZNAME:MST
TZOFFSETTO:-0700
TZOFFSETFROM:-0700
END:STANDARD
END:VTIMEZONE
END:VCALENDAR
