BEGIN:VCALENDAR
PRODID:-//eluceo/ical//2.0/EN
VERSION:2.0
CALSCALE:GREGORIAN
BEGIN:VEVENT
UID:94eda4439c5a2f5e006dac94cbadcdb8
DTSTAMP:20260420T085558Z
SUMMARY:Fearless Kitty Rescue
DESCRIPTION:Description:\nLearn of the great work performed by Fearless Kit
 ty Rescue in our community. Support their efforts by making upcycled cat t
 oys for Earth Day.   \n\nRequirements:\nDo you require an accommodation 
 to participate in this event? Call 602-652-3000\, TTY 711\, or submit your
  request in person at least 14 business days before the event.
URL:https://mcldaz.events.mylibrary.digital/event?id=335485
DTSTART;TZID=America/Phoenix:20260422T160000
DTEND;TZID=America/Phoenix:20260422T170000
LOCATION:Fountain Hills Library\, 12901 N La Montana Dr\, Fountain Hills 85
 268 AZ
END:VEVENT
BEGIN:VTIMEZONE
TZID:America/Phoenix
BEGIN:STANDARD
DTSTART:20200501T000000
TZNAME:MST
TZOFFSETTO:-0700
TZOFFSETFROM:-0700
END:STANDARD
END:VTIMEZONE
END:VCALENDAR
