BEGIN:VCALENDAR
PRODID:-//eluceo/ical//2.0/EN
VERSION:2.0
CALSCALE:GREGORIAN
BEGIN:VEVENT
UID:ed28ef2a48e0f8420a51b40d3dcbfe83
DTSTAMP:20260420T131927Z
SUMMARY:Adult Fiction Book Club
DESCRIPTION:Description:\nJoin us on the fourth Monday of each month for a 
 lively book discussion. This month's book is The Heaven & Earth Grocery St
 ore by James McBride. Copies of the book are available for check out at th
 e Georgia T. Lord Library first floor front desk on 03/23/26 after the las
 t book club lets out while supplies last.
URL:https://mcldaz.events.mylibrary.digital/event?id=335536
DTSTART;TZID=America/Phoenix:20260427T160000
DTEND;TZID=America/Phoenix:20260427T170000
LOCATION:Georgia T. Lord Library\, 1900 N. Civic Square\, Goodyear 85395 AZ
END:VEVENT
BEGIN:VTIMEZONE
TZID:America/Phoenix
BEGIN:STANDARD
DTSTART:20200501T000000
TZNAME:MST
TZOFFSETTO:-0700
TZOFFSETFROM:-0700
END:STANDARD
END:VTIMEZONE
END:VCALENDAR
