BEGIN:VCALENDAR
PRODID:-//eluceo/ical//2.0/EN
VERSION:2.0
CALSCALE:GREGORIAN
BEGIN:VEVENT
UID:e1189f7c18f4d6e22a37c3e5052cc4e1
DTSTAMP:20260424T173404Z
SUMMARY:Cinema Club
DESCRIPTION:Description:\nAges 18+\nJoin us for thoughtful discussion focus
 ing on a new film title each month\, featuring a diverse medley of cinemat
 ic genres\, styles\, and storytelling approaches that invite exploration a
 nd discovery. Find your new favorite!\nTitle: Parasite (2019)\nAvailable o
 n Kanopy here. \n\nRequirements:\nDo you require an accommodation to part
 icipate in this event? Call 602-652-3000\, TTY 711\, \nor submit your requ
 est in person at least 14 business days before the event.
URL:https://mcldaz.events.mylibrary.digital/event?id=336121
DTSTART;TZID=America/Phoenix:20260511T180000
DTEND;TZID=America/Phoenix:20260511T190000
LOCATION:Queen Creek Library\, 21802 S. Ellsworth Road\, Queen Creek 85142 
 AZ
END:VEVENT
BEGIN:VTIMEZONE
TZID:America/Phoenix
BEGIN:STANDARD
DTSTART:20200501T000000
TZNAME:MST
TZOFFSETTO:-0700
TZOFFSETFROM:-0700
END:STANDARD
END:VTIMEZONE
END:VCALENDAR
