BEGIN:VCALENDAR
PRODID:-//eluceo/ical//2.0/EN
VERSION:2.0
CALSCALE:GREGORIAN
BEGIN:VEVENT
UID:bff1c7bb3b6f1f99411072f4354a9cab
DTSTAMP:20260419T145058Z
SUMMARY:Jungle Jill's Animal Encounters
DESCRIPTION:Description:\nAges 4 and up. Learn about animals with Jungle Ji
 ll! She'll bring several different animals\, and she'll tell us all about 
 them. Join us in the library for this great interactive animal show.\n\nRe
 quirements:\nDo you require an accommodation to participate in this event?
  Call 602-652-3000\, TTy 771\, or submit your request in person at least 1
 4 business days before the event.
URL:https://mcldaz.events.mylibrary.digital/event?id=336529
DTSTART;TZID=America/Phoenix:20260606T130000
DTEND;TZID=America/Phoenix:20260606T140000
LOCATION:North Valley Regional Library\, 40410\, N. Gavilan Peak Pkwy\, Ant
 hem AZ 85083
END:VEVENT
BEGIN:VTIMEZONE
TZID:America/Phoenix
BEGIN:STANDARD
DTSTART:20200501T000000
TZNAME:MST
TZOFFSETTO:-0700
TZOFFSETFROM:-0700
END:STANDARD
END:VTIMEZONE
END:VCALENDAR
