BEGIN:VCALENDAR
PRODID:-//eluceo/ical//2.0/EN
VERSION:2.0
CALSCALE:GREGORIAN
BEGIN:VEVENT
UID:688795234fda4b41e402089a748501ed
DTSTAMP:20260424T154445Z
SUMMARY:Open Studio - Art for Teens (Ages 11-18)
DESCRIPTION:Description:\nTeens - drop by the library to make a mini painti
 ng for the library's Art Show! We'll supply a mini canvas\, easel\, paints
 \, and brushes -- all you need to do is enjoy creating your masterpiece. A
 rtwork will be shown at the Library Art Show on June 24 from 4-5 pm. You c
 an pick up your painting at the end of the month.\n\nRequirements:\nDo you
  require an accommodation to participate in this event? Call 602-652-3000\
 , TTY 711\, or submit your request in person at least 14 business days bef
 ore the event.
URL:https://mcldaz.events.mylibrary.digital/event?id=338325
DTSTART;TZID=America/Phoenix:20260618T170000
DTEND;TZID=America/Phoenix:20260618T183000
LOCATION:North Valley Regional Library\, 40410\, N. Gavilan Peak Pkwy\, Ant
 hem AZ 85083
END:VEVENT
BEGIN:VTIMEZONE
TZID:America/Phoenix
BEGIN:STANDARD
DTSTART:20200501T000000
TZNAME:MST
TZOFFSETTO:-0700
TZOFFSETFROM:-0700
END:STANDARD
END:VTIMEZONE
END:VCALENDAR
