BEGIN:VCALENDAR
PRODID:-//eluceo/ical//2.0/EN
VERSION:2.0
CALSCALE:GREGORIAN
BEGIN:VEVENT
UID:73f56964bd800cb0044086be804f9ec8
DTSTAMP:20260424T154038Z
SUMMARY:Star Wars Day!
DESCRIPTION:Description:\nJoin us in this fun event with crafts\, music\, a
 nd more. Feel free to dress in your Star Wars attire.
URL:https://mcldaz.events.mylibrary.digital/event?id=339197
DTSTART;TZID=America/Phoenix:20260504T163000
DTEND;TZID=America/Phoenix:20260504T173000
LOCATION:Guadalupe Library\, 9241 S. Avenida Del Yaqui\, Guadalupe 85283 AZ
END:VEVENT
BEGIN:VTIMEZONE
TZID:America/Phoenix
BEGIN:STANDARD
DTSTART:20200501T000000
TZNAME:MST
TZOFFSETTO:-0700
TZOFFSETFROM:-0700
END:STANDARD
END:VTIMEZONE
END:VCALENDAR
