BEGIN:VCALENDAR
PRODID:-//eluceo/ical//2.0/EN
VERSION:2.0
CALSCALE:GREGORIAN
BEGIN:VEVENT
UID:723b377b394aa4a2a2e3bf87c4b43e0d
DTSTAMP:20260424T154743Z
SUMMARY:Stem Fun- Volcanoes (Ages 6-12)
DESCRIPTION:Description:\nJoin us for a hands-on adventure as we build our 
 very own volcanoes and watch them erupt! Along the way\, we’ll explore d
 ifferent types of volcanoes and discover why they erupt the way they do. W
 e’ll also get creative by using playdough to model the layers of the Ear
 th\, helping us understand what’s happening beneath the surface.\nPerfec
 t for curious minds who love science\, creativity\, and a little bit of ex
 plosive fun! 
URL:https://mcldaz.events.mylibrary.digital/event?id=340066
DTSTART;TZID=America/Phoenix:20260617T160000
DTEND;TZID=America/Phoenix:20260617T170000
LOCATION:North Valley Regional Library\, 40410\, N. Gavilan Peak Pkwy\, Ant
 hem AZ 85083
END:VEVENT
BEGIN:VTIMEZONE
TZID:America/Phoenix
BEGIN:STANDARD
DTSTART:20200501T000000
TZNAME:MST
TZOFFSETTO:-0700
TZOFFSETFROM:-0700
END:STANDARD
END:VTIMEZONE
END:VCALENDAR
