BEGIN:VCALENDAR
PRODID:-//eluceo/ical//2.0/EN
VERSION:2.0
CALSCALE:GREGORIAN
BEGIN:VEVENT
UID:0a8efbb051b338acdeb15de7f74ae711
DTSTAMP:20260419T141454Z
SUMMARY:Cozy Crafters
DESCRIPTION:Description:\nDo you like to knit\, crochet\, or craft? Come in
 \, sit a spell\, and work on your latest project while enjoying the compan
 y of other crafters.
URL:https://mcldaz.events.mylibrary.digital/event?id=341519
DTSTART;TZID=America/Phoenix:20260611T120000
DTEND;TZID=America/Phoenix:20260611T150000
LOCATION:El Mirage Library\, 13513 N. El Mirage Rd\, El Mirage 85335 AZ
END:VEVENT
BEGIN:VTIMEZONE
TZID:America/Phoenix
BEGIN:STANDARD
DTSTART:20200501T000000
TZNAME:MST
TZOFFSETTO:-0700
TZOFFSETFROM:-0700
END:STANDARD
END:VTIMEZONE
END:VCALENDAR
