BEGIN:VCALENDAR
PRODID:-//eluceo/ical//2.0/EN
VERSION:2.0
CALSCALE:GREGORIAN
BEGIN:VEVENT
UID:009339464cde2b367e70e16f1c02993b
DTSTAMP:20260424T141257Z
SUMMARY:Family Fun- Open Studio
DESCRIPTION:Description:\nThis program is for families. Take an hour to tap
  into your creativity and paint an artwork for the library's Art Show! We'
 ll supply a mini canvas\, easel\, paints\, and brushes -- all you need to 
 do is enjoy creating your masterpiece. Artworks will be shown at the Libra
 ry Art Show on June 22 from 6-7pm\, and returned to artists at the end of 
 the month.
URL:https://mcldaz.events.mylibrary.digital/event?id=343291
DTSTART;TZID=America/Phoenix:20260610T160000
DTEND;TZID=America/Phoenix:20260610T170000
LOCATION:North Valley Regional Library\, 40410\, N. Gavilan Peak Pkwy\, Ant
 hem AZ 85083
END:VEVENT
BEGIN:VTIMEZONE
TZID:America/Phoenix
BEGIN:STANDARD
DTSTART:20200501T000000
TZNAME:MST
TZOFFSETTO:-0700
TZOFFSETFROM:-0700
END:STANDARD
END:VTIMEZONE
END:VCALENDAR
