BEGIN:VCALENDAR
PRODID:-//eluceo/ical//2.0/EN
VERSION:2.0
CALSCALE:GREGORIAN
BEGIN:VEVENT
UID:5025478ff3c6218afd616e32d2fdcd1d
DTSTAMP:20260420T102837Z
SUMMARY:Crafting with a Purpose - Teddy Bears
DESCRIPTION:Description:\nCome join us for a fun\, hands-on program for all
  ages! Together\, we will make cuddly teddy bears to donate to Sunshine Ac
 res Children’s Home\, a caring home that supports children separated fro
 m their parents and helps them build long-term relationships. No experienc
 e is needed\, and all supplies are provided\; just bring your smile and cr
 eativity as we spread comfort and joy\, one bear at a time! 
URL:https://mcldaz.events.mylibrary.digital/event?id=343576
DTSTART;TZID=America/Phoenix:20260418T100000
DTEND;TZID=America/Phoenix:20260418T120000
LOCATION:Fairway Library\, 10600 W Peoria Ave\, Sun City 85351 AZ
END:VEVENT
BEGIN:VTIMEZONE
TZID:America/Phoenix
BEGIN:STANDARD
DTSTART:20200501T000000
TZNAME:MST
TZOFFSETTO:-0700
TZOFFSETFROM:-0700
END:STANDARD
END:VTIMEZONE
END:VCALENDAR
