BEGIN:VCALENDAR
PRODID:-//eluceo/ical//2.0/EN
VERSION:2.0
CALSCALE:GREGORIAN
BEGIN:VEVENT
UID:0b1cde53aa0c0dbf1e08111e3b09c935
DTSTAMP:20260424T130137Z
SUMMARY:Stem Fun- Launchers (Age 6-12)
DESCRIPTION:Description:\nWhat do catapults\, airplane launchers and slings
 hots all have in common? They all use stored energy to propel an object th
 rough the air. Come and have fun exploring basic concepts of physics while
  building simple catapults\, airplane launchers and slingshots.
URL:https://mcldaz.events.mylibrary.digital/event?id=343672
DTSTART;TZID=America/Phoenix:20260715T160000
DTEND;TZID=America/Phoenix:20260715T170000
LOCATION:North Valley Regional Library\, 40410\, N. Gavilan Peak Pkwy\, Ant
 hem AZ 85083
END:VEVENT
BEGIN:VTIMEZONE
TZID:America/Phoenix
BEGIN:STANDARD
DTSTART:20200501T000000
TZNAME:MST
TZOFFSETTO:-0700
TZOFFSETFROM:-0700
END:STANDARD
END:VTIMEZONE
END:VCALENDAR
