BEGIN:VCALENDAR
PRODID:-//eluceo/ical//2.0/EN
VERSION:2.0
CALSCALE:GREGORIAN
BEGIN:VEVENT
UID:5395c0841ba197f5dcd48c7e4c6423e6
DTSTAMP:20260419T141504Z
SUMMARY:Caregiver Classes
DESCRIPTION:Description:\nWe’re glad to welcome back Lutheran Social Serv
 ices’ Free Caregiver Institute to the Aguila Library. Caring for a young
  child is important and rewarding work\, though it can also be demanding i
 n ways that are not always easy to name. This program offers practical sup
 port\, guidance\, and a place to be among others who understand what it me
 ans to care for children ages 0 to 5\, whether you are a parent\, a family
  member\, a friend\, or a neighbor.\nThere will be First Aid training\, sk
 ills training\, practical advice\, and professional caregiving for your ch
 ildren while you attend class right here at the library. There will also b
 e fun and games for children ages 0 to 5\, so that while you are learning\
 , they are cared for too.\nWe’re grateful to partner in bringing these r
 esources to the Aguila Library and to help make space for something truly 
 needed: learning\, connection\, and support.
URL:https://mcldaz.events.mylibrary.digital/event?id=343831
DTSTART;TZID=America/Phoenix:20260424T103000
DTEND;TZID=America/Phoenix:20260424T123000
LOCATION:Aguila Library\, 51300 US-60\, Aguila 85320 AZ
END:VEVENT
BEGIN:VTIMEZONE
TZID:America/Phoenix
BEGIN:STANDARD
DTSTART:20200501T000000
TZNAME:MST
TZOFFSETTO:-0700
TZOFFSETFROM:-0700
END:STANDARD
END:VTIMEZONE
END:VCALENDAR
