BEGIN:VCALENDAR
PRODID:-//eluceo/ical//2.0/EN
VERSION:2.0
CALSCALE:GREGORIAN
BEGIN:VEVENT
UID:98a7eaa1b11d8fa4b3d88d5c2a2ee834
DTSTAMP:20260421T104847Z
SUMMARY:Book Club with Brenda: The Cliffs
DESCRIPTION:Description:\nJoin Brenda to discuss her pick this month\, The 
 Cliffs by Chris Whitaker Copies of our next book Frankenstein by Mary Shel
 ley will be distributed.
URL:https://mcldaz.events.mylibrary.digital/event?id=344074
DTSTART;TZID=America/Phoenix:20260430T150000
DTEND;TZID=America/Phoenix:20260430T160000
LOCATION:Ed Robson Library\, 9330 E Riggs Rd\, Sun Lakes 85248 AZ
END:VEVENT
BEGIN:VTIMEZONE
TZID:America/Phoenix
BEGIN:STANDARD
DTSTART:20200501T000000
TZNAME:MST
TZOFFSETTO:-0700
TZOFFSETFROM:-0700
END:STANDARD
END:VTIMEZONE
END:VCALENDAR
