BEGIN:VCALENDAR
PRODID:-//eluceo/ical//2.0/EN
VERSION:2.0
CALSCALE:GREGORIAN
BEGIN:VEVENT
UID:c0f90de9a330af35586759586b9809bf
DTSTAMP:20260424T181541Z
SUMMARY:CD Suncatchers- For Teens
DESCRIPTION:Description:\nLearn how to create a colorful suncatcher with cd
 s\, markers\, string\, and accessories! For teens.
URL:https://mcldaz.events.mylibrary.digital/event?id=344568
DTSTART;TZID=America/Phoenix:20260528T150000
DTEND;TZID=America/Phoenix:20260528T160000
LOCATION:Fountain Hills Library\, 12901 N La Montana Dr\, Fountain Hills 85
 268 AZ
END:VEVENT
BEGIN:VTIMEZONE
TZID:America/Phoenix
BEGIN:STANDARD
DTSTART:20200501T000000
TZNAME:MST
TZOFFSETTO:-0700
TZOFFSETFROM:-0700
END:STANDARD
END:VTIMEZONE
END:VCALENDAR
