BEGIN:VCALENDAR
PRODID:-//eluceo/ical//2.0/EN
VERSION:2.0
CALSCALE:GREGORIAN
BEGIN:VEVENT
UID:3f676ea1e9836596ab8949f1e71344fa
DTSTAMP:20260424T170518Z
SUMMARY:3-D Art- For Teens
DESCRIPTION:Description:\nJoin us at the library to create 3-D art! We will
  have 3-D pens and a 3-D printer. For teens.
URL:https://mcldaz.events.mylibrary.digital/event?id=344569
DTSTART;TZID=America/Phoenix:20260514T150000
DTEND;TZID=America/Phoenix:20260514T170000
LOCATION:Fountain Hills Library\, 12901 N La Montana Dr\, Fountain Hills 85
 268 AZ
END:VEVENT
BEGIN:VTIMEZONE
TZID:America/Phoenix
BEGIN:STANDARD
DTSTART:20200501T000000
TZNAME:MST
TZOFFSETTO:-0700
TZOFFSETFROM:-0700
END:STANDARD
END:VTIMEZONE
END:VCALENDAR
