BEGIN:VCALENDAR
PRODID:-//eluceo/ical//2.0/EN
VERSION:2.0
CALSCALE:GREGORIAN
BEGIN:VEVENT
UID:35bf436e479dd1bf772e4c3d1f280759
DTSTAMP:20260424T170921Z
SUMMARY:The Cosmic Dance Around the North Star
DESCRIPTION:Description:\nYou've probably heard that the North Star guides 
 navigators during the night. But here's what you might not know: Polaris i
 s just the anchor point for an entire celestial clock that's been ticking 
 overhead for thousands of years. Around that single star\, whole constella
 tions wheel through the night\, becoming the original timekeepers and comp
 asses for cultures across the Northern Hemisphere. And here's the kicker: 
 Polaris won't always be our North Star. Earth wobbles on its axis like a s
 pinning top winding down\, and over the centuries\, different stars take t
 urns pointing the way north. Join us as we explore this cosmic dance and d
 iscover this extraordinary piece of the night sky.
URL:https://mcldaz.events.mylibrary.digital/event?id=344594
DTSTART;TZID=America/Phoenix:20260530T130000
DTEND;TZID=America/Phoenix:20260530T140000
LOCATION:Fountain Hills Library\, 12901 N La Montana Dr\, Fountain Hills 85
 268 AZ
END:VEVENT
BEGIN:VTIMEZONE
TZID:America/Phoenix
BEGIN:STANDARD
DTSTART:20200501T000000
TZNAME:MST
TZOFFSETTO:-0700
TZOFFSETFROM:-0700
END:STANDARD
END:VTIMEZONE
END:VCALENDAR
